BEGIN:VCALENDAR
VERSION:2.0
PRODID:-//Calvary Baptist - ECPv6.15.20//NONSGML v1.0//EN
CALSCALE:GREGORIAN
METHOD:PUBLISH
X-WR-CALNAME:Calvary Baptist
X-ORIGINAL-URL:https://calvaryibc.com
X-WR-CALDESC:Events for Calvary Baptist
REFRESH-INTERVAL;VALUE=DURATION:PT1H
X-Robots-Tag:noindex
X-PUBLISHED-TTL:PT1H
BEGIN:VTIMEZONE
TZID:UTC
BEGIN:STANDARD
TZOFFSETFROM:+0000
TZOFFSETTO:+0000
TZNAME:UTC
DTSTART:20220101T000000
END:STANDARD
END:VTIMEZONE
BEGIN:VEVENT
DTSTART;TZID=UTC:20251224T180000
DTEND;TZID=UTC:20251224T190000
DTSTAMP:20260423T151511
CREATED:20251210T025959Z
LAST-MODIFIED:20251210T030255Z
UID:4304-1766599200-1766602800@calvaryibc.com
SUMMARY:Candlelight Service
DESCRIPTION:John 8:12 Then spake Jesus again unto them\, saying\, I am the light of the world: he that followeth me shall not walk in darkness\, but shall have the light of life.
URL:https://calvaryibc.com/event/candlelight-service-3/
ATTACH;FMTTYPE=image/jpeg:https://calvaryibc.com/wp-content/uploads/2023/12/Candles.jpg
END:VEVENT
BEGIN:VEVENT
DTSTART;VALUE=DATE:20251214
DTEND;VALUE=DATE:20251215
DTSTAMP:20260423T151511
CREATED:20251210T024605Z
LAST-MODIFIED:20251210T024605Z
UID:4302-1765670400-1765756799@calvaryibc.com
SUMMARY:Christmas Dinner
DESCRIPTION:Please join us for our annual Christmas dinner following morning service!
URL:https://calvaryibc.com/event/christmas-dinner-3/
ATTACH;FMTTYPE=image/jpeg:https://calvaryibc.com/wp-content/uploads/2023/11/free-manger-scene-vector-background.jpg
END:VEVENT
BEGIN:VEVENT
DTSTART;VALUE=DATE:20251019
DTEND;VALUE=DATE:20251020
DTSTAMP:20260423T151511
CREATED:20251001T115733Z
LAST-MODIFIED:20251001T115733Z
UID:3937-1760832000-1760918399@calvaryibc.com
SUMMARY:Homecoming
DESCRIPTION:Please join us for a day of fellowship and celebration of our church’s founding. There will be a guest Preacher and live blue grass music during morning service beginning at 11:00 am. We will gather in the fellowship hall for a meal following morning service. \n12 For as the body is one\, and hath many members\, and all the members of that one body\, being many\, are one body: so also is Christ. 1 Corinthians 12:12
URL:https://calvaryibc.com/event/homecoming-2/
ATTACH;FMTTYPE=image/jpeg:https://calvaryibc.com/wp-content/uploads/2023/11/20231112_121921-scaled.jpg
END:VEVENT
BEGIN:VEVENT
DTSTART;VALUE=DATE:20250706
DTEND;VALUE=DATE:20250707
DTSTAMP:20260423T151511
CREATED:20250629T114259Z
LAST-MODIFIED:20250630T110405Z
UID:2994-1751760000-1751846399@calvaryibc.com
SUMMARY:Independence Day Dinner
DESCRIPTION:Come join us for our 4th of July Dinner following morning service! 2 Corinthians 3:17 Now the Lord is that Spirit: and where the Spirit of the Lord is\, there is liberty.
URL:https://calvaryibc.com/event/independence-day-dinner-2/
ATTACH;FMTTYPE=image/jpeg:https://calvaryibc.com/wp-content/uploads/2025/06/American-Flag.jpg
END:VEVENT
BEGIN:VEVENT
DTSTART;VALUE=DATE:20250629
DTEND;VALUE=DATE:20250630
DTSTAMP:20260423T151511
CREATED:20250612T013425Z
LAST-MODIFIED:20250630T110048Z
UID:2781-1751155200-1751241599@calvaryibc.com
SUMMARY:Alan Davis\, Missionary to Bronx\, NY
DESCRIPTION:Come join us in hearing Alan’s story!
URL:https://calvaryibc.com/event/missionary-alan-davis-from-bronx-ny/
ATTACH;FMTTYPE=image/jpeg:https://calvaryibc.com/wp-content/uploads/2023/11/20231112_121855-scaled.jpg
END:VEVENT
BEGIN:VEVENT
DTSTART;TZID=UTC:20250216T123000
DTEND;TZID=UTC:20250216T143000
DTSTAMP:20260423T151511
CREATED:20250209T202608Z
LAST-MODIFIED:20250630T110644Z
UID:1989-1739709000-1739716200@calvaryibc.com
SUMMARY:Valentine's Dinner
DESCRIPTION:1 John 4:19 We love because he first loved us. \nCome fellowship with us!
URL:https://calvaryibc.com/event/valentines-dinner-2/
ATTACH;FMTTYPE=image/jpeg:https://calvaryibc.com/wp-content/uploads/2024/02/Valentines.jpg
END:VEVENT
BEGIN:VEVENT
DTSTART;TZID=UTC:20241224T180000
DTEND;TZID=UTC:20241224T190000
DTSTAMP:20260423T151511
CREATED:20241223T154205Z
LAST-MODIFIED:20241223T154205Z
UID:1802-1735063200-1735066800@calvaryibc.com
SUMMARY:Candlelight Service
DESCRIPTION:Join us in celebrating the birth of Jesus Christ and the light he brings to all. John 8:12 Then spake Jesus again unto them\, saying\, I am the light of the world: he that followeth me shall not walk in darkness\, but shall have the light of life.
URL:https://calvaryibc.com/event/candlelight-service-2/
ATTACH;FMTTYPE=image/jpeg:https://calvaryibc.com/wp-content/uploads/2023/12/Candles.jpg
END:VEVENT
BEGIN:VEVENT
DTSTART;VALUE=DATE:20241208
DTEND;VALUE=DATE:20241209
DTSTAMP:20260423T151511
CREATED:20241202T015705Z
LAST-MODIFIED:20250630T111054Z
UID:1701-1733616000-1733702399@calvaryibc.com
SUMMARY:Christmas Dinner
DESCRIPTION:Join us for our annual Christmas dinner after morning service! \nMatthew 2:10 When they saw the star\, they rejoiced with exceeding great joy. \n 
URL:https://calvaryibc.com/event/christmas-dinner-2/
ATTACH;FMTTYPE=image/jpeg:https://calvaryibc.com/wp-content/uploads/2023/11/free-manger-scene-vector-background.jpg
END:VEVENT
BEGIN:VEVENT
DTSTART;VALUE=DATE:20241020
DTEND;VALUE=DATE:20241021
DTSTAMP:20260423T151511
CREATED:20241012T230356Z
LAST-MODIFIED:20250630T111155Z
UID:1554-1729382400-1729468799@calvaryibc.com
SUMMARY:Homecoming
DESCRIPTION:Following morning service\, it is a time to fellowship one with another and celebrate the founding of our Church! \n12 For as the body is one\, and hath many members\, and all the members of that one body\, being many\, are one body: so also is Christ. 1 Corinthians 12:12
URL:https://calvaryibc.com/event/homecoming/
ATTACH;FMTTYPE=image/jpeg:https://calvaryibc.com/wp-content/uploads/2023/11/20231112_121921-scaled.jpg
END:VEVENT
BEGIN:VEVENT
DTSTART;VALUE=DATE:20240630
DTEND;VALUE=DATE:20240701
DTSTAMP:20260423T151511
CREATED:20240618T115426Z
LAST-MODIFIED:20240618T120543Z
UID:1245-1719705600-1719791999@calvaryibc.com
SUMMARY:Independence Day Dinner
DESCRIPTION:Come join us for our 4th of July Dinner following morning service! 17 Now the Lord is that Spirit: and where the Spirit of the Lord is\, there is liberty. 2 Corinthians 3:17 (KJV)
URL:https://calvaryibc.com/event/independence-day-dinner/
ATTACH;FMTTYPE=image/png:https://calvaryibc.com/wp-content/uploads/2024/06/Cross-and-Flag.png
END:VEVENT
BEGIN:VEVENT
DTSTART;VALUE=DATE:20240211
DTEND;VALUE=DATE:20240212
DTSTAMP:20260423T151511
CREATED:20240205T103727Z
LAST-MODIFIED:20250630T110816Z
UID:881-1707609600-1707695999@calvaryibc.com
SUMMARY:Valentine's Dinner
DESCRIPTION:Nothing like the love from a Church family; come fellowship with us!
URL:https://calvaryibc.com/event/valentines-dinner/
ATTACH;FMTTYPE=image/jpeg:https://calvaryibc.com/wp-content/uploads/2024/02/Valentines.jpg
END:VEVENT
BEGIN:VEVENT
DTSTART;TZID=UTC:20231224T180000
DTEND;TZID=UTC:20231224T190000
DTSTAMP:20260423T151511
CREATED:20231206T231218Z
LAST-MODIFIED:20231206T231218Z
UID:748-1703440800-1703444400@calvaryibc.com
SUMMARY:Candlelight Service
DESCRIPTION:A reminder of the true meaning of Christmas. Join us!
URL:https://calvaryibc.com/event/candlelight-service/
ATTACH;FMTTYPE=image/jpeg:https://calvaryibc.com/wp-content/uploads/2023/12/Candles.jpg
END:VEVENT
BEGIN:VEVENT
DTSTART;VALUE=DATE:20231210
DTEND;VALUE=DATE:20231211
DTSTAMP:20260423T151511
CREATED:20231116T002013Z
LAST-MODIFIED:20231116T005129Z
UID:695-1702166400-1702252799@calvaryibc.com
SUMMARY:Christmas Dinner
DESCRIPTION:A time of fellowship and celebration!
URL:https://calvaryibc.com/event/christmas-dinner/
ATTACH;FMTTYPE=image/jpeg:https://calvaryibc.com/wp-content/uploads/2023/11/free-manger-scene-vector-background.jpg
END:VEVENT
BEGIN:VEVENT
DTSTART;VALUE=DATE:20231119
DTEND;VALUE=DATE:20231120
DTSTAMP:20260423T151511
CREATED:20230928T001023Z
LAST-MODIFIED:20250630T110906Z
UID:607-1700352000-1700438399@calvaryibc.com
SUMMARY:Ethan Prater\, Missionary to the Dominican Republic
DESCRIPTION:Come join us in hearing Ethan’s story!
URL:https://calvaryibc.com/event/sample-event-2/
CATEGORIES:Our Events
ATTACH;FMTTYPE=image/jpeg:https://calvaryibc.com/wp-content/uploads/2022/11/calvary_640f.jpg
END:VEVENT
BEGIN:VEVENT
DTSTART;VALUE=DATE:20231015
DTEND;VALUE=DATE:20231016
DTSTAMP:20260423T151511
CREATED:20230927T234347Z
LAST-MODIFIED:20231001T121229Z
UID:601-1697328000-1697414399@calvaryibc.com
SUMMARY:Homecoming
DESCRIPTION:A time to celebrate\, not only with our brothers and sisters in Christ\, but the founding of our Church!
URL:https://calvaryibc.com/event/sample-event-1/
CATEGORIES:Our Events
ATTACH;FMTTYPE=image/jpeg:https://calvaryibc.com/wp-content/uploads/2022/11/calvary_640d.jpg
END:VEVENT
END:VCALENDAR